BEGIN:VCALENDAR
VERSION:2.0
PRODID:-//ChamberMaster//Event Calendar 2.0//EN
METHOD:PUBLISH
X-PUBLISHED-TTL:P1H
REFRESH-INTERVAL:P1H
CALSCALE:GREGORIAN
BEGIN:VTIMEZONE
TZID:America/Chicago
BEGIN:DAYLIGHT
RRULE:FREQ=YEARLY;BYMONTH=3;BYDAY=2SU
DTSTART:20070101T000000
TZOFFSETFROM:-0600
TZOFFSETTO:-0500
TZNAME:Central Daylight Time
END:DAYLIGHT
BEGIN:STANDARD
RRULE:FREQ=YEARLY;BYMONTH=11;BYDAY=1SU
DTSTART:20070101T000000
TZOFFSETFROM:-0500
TZOFFSETTO:-0600
TZNAME:Central Standard Time
END:STANDARD
END:VTIMEZONE
BEGIN:VEVENT
DTSTART;TZID=America/Chicago:20260606T130000
DTEND;TZID=America/Chicago:20260606T180000
X-MICROSOFT-CDO-ALLDAYEVENT:FALSE
SUMMARY:TXFW: SPRING RUNWAY SHOWS
DESCRIPTION:Spend the day immersed in fashion with collections from Black Swan\, Knavish\, Negris Lebrum\, and Jesus Del Real. This full-day presentation features streetwear\, ready to wear\, and next level design. Guests will experience runway shows\, the TXFW Marketplace\, featuring a curated selection of fashion boutiques and vendors\, and access to a cash bar. VIP seating upgrades are available for an enhanced runway viewing experience.
X-ALT-DESC;FMTTYPE=text/html:<!DOCTYPE html><html><head><title></title></head><body aria-disabled="false"><p dir="ltr" style="line-height:1.38\;margin-top:0pt\;margin-bottom:0pt\;"><span style="font-size:11pt\;font-family:Arial\,sans-serif\;color:#001d35\;background-color:transparent\;font-weight:400\;font-style:normal\;font-variant:normal\;text-decoration:none\;vertical-align:baseline\;white-space:pre\;white-space:pre-wrap\;">Spend the day immersed in fashion with collections from Black Swan\, Knavish\, Negris Lebrum\, and Jesus Del Real. This full-day presentation features streetwear\, ready to wear\, and next level design.&nbsp\;</span><span style="font-size:11pt\;font-family:Arial\,sans-serif\;color:#000000\;background-color:#ffffff\;font-weight:400\;font-style:normal\;font-variant:normal\;text-decoration:none\;vertical-align:baseline\;white-space:pre\;white-space:pre-wrap\;">Guests will experience runway shows\, the TXFW Marketplace\, featuring a curated selection of fashion boutiques and vendors\, and access to a cash bar. VIP seating upgrades are available for an enhanced runway viewing experience.</span></p></body></html>
LOCATION:
UID:e.3379.1434811
SEQUENCE:3
DTSTAMP:20260423T143625Z
URL:https://business.sachamber.org/communityeventcalendar/Details/txfw-spring-runway-shows-1698392?sourceTypeId=Hub
END:VEVENT
END:VCALENDAR
