BEGIN:VCALENDAR
VERSION:2.0
PRODID:-//ChamberMaster//Event Calendar 2.0//EN
METHOD:PUBLISH
X-PUBLISHED-TTL:P1H
REFRESH-INTERVAL:P1H
CALSCALE:GREGORIAN
BEGIN:VTIMEZONE
TZID:America/Chicago
BEGIN:DAYLIGHT
RRULE:FREQ=YEARLY;BYMONTH=3;BYDAY=2SU
DTSTART:20070101T000000
TZOFFSETFROM:-0600
TZOFFSETTO:-0500
TZNAME:Central Daylight Time
END:DAYLIGHT
BEGIN:STANDARD
RRULE:FREQ=YEARLY;BYMONTH=11;BYDAY=1SU
DTSTART:20070101T000000
TZOFFSETFROM:-0500
TZOFFSETTO:-0600
TZNAME:Central Standard Time
END:STANDARD
END:VTIMEZONE
BEGIN:VEVENT
DTSTART;TZID=America/Chicago:20260605T160000
DTEND;TZID=America/Chicago:20260605T190000
X-MICROSOFT-CDO-ALLDAYEVENT:FALSE
SUMMARY:TXFW: SPRING RUNWAY SHOWS
DESCRIPTION:Kick off TXFW runway presentations with a series of bold\, feminine designs and creative expression. This curated presentation features collections from Jennifer Flores\, Congrains Designs\, and Johnathan Hayden.Guests will experience runway shows\, the TXFW Marketplace\, featuring a curated selection of fashion boutiques and vendors\, and access to a cash bar. VIP seating upgrades are available for an enhanced runway viewing experience.After-Party: Easy Baby
X-ALT-DESC;FMTTYPE=text/html:<!DOCTYPE html><html><head><title></title></head><body aria-disabled="false"><p dir="ltr" style="line-height:1.38\;margin-top:0pt\;margin-bottom:0pt\;"><span style="font-size:11pt\;font-family:Arial\,sans-serif\;color:#000000\;background-color:#ffffff\;font-weight:400\;font-style:normal\;font-variant:normal\;text-decoration:none\;vertical-align:baseline\;white-space:pre\;white-space:pre-wrap\;">&nbsp\;Kick off TXFW runway presentations with a series of bold\, feminine designs and creative expression. This curated presentation features collections from Jennifer Flores\, Congrains Designs\, and Johnathan Hayden.</span></p><p dir="ltr" style="line-height:1.38\;margin-top:12pt\;margin-bottom:12pt\;"><span style="font-size:11pt\;font-family:Arial\,sans-serif\;color:#000000\;background-color:#ffffff\;font-weight:400\;font-style:normal\;font-variant:normal\;text-decoration:none\;vertical-align:baseline\;white-space:pre\;white-space:pre-wrap\;">Guests will experience runway shows\, the TXFW Marketplace\, featuring a curated selection of fashion boutiques and vendors\, and access to a cash bar. VIP seating upgrades are available for an enhanced runway viewing experience.</span></p><p dir="ltr" style="line-height:1.38\;margin-top:12pt\;margin-bottom:12pt\;"><span style="font-size:11pt\;font-family:Arial\,sans-serif\;color:#001d35\;background-color:transparent\;font-weight:400\;font-style:normal\;font-variant:normal\;text-decoration:none\;vertical-align:baseline\;white-space:pre\;white-space:pre-wrap\;">After-Party: Easy Baby</span></p></body></html>
LOCATION:
UID:e.3379.1434810
SEQUENCE:3
DTSTAMP:20260423T140004Z
URL:https://business.sachamber.org/communityeventcalendar/Details/txfw-spring-runway-shows-1698391?sourceTypeId=Hub
END:VEVENT
END:VCALENDAR
