BEGIN:VCALENDAR
VERSION:2.0
PRODID:-//ChamberMaster//Event Calendar 2.0//EN
METHOD:PUBLISH
X-PUBLISHED-TTL:P1H
REFRESH-INTERVAL:P1H
CALSCALE:GREGORIAN
BEGIN:VTIMEZONE
TZID:America/Chicago
BEGIN:DAYLIGHT
RRULE:FREQ=YEARLY;BYMONTH=3;BYDAY=2SU
DTSTART:20070101T000000
TZOFFSETFROM:-0600
TZOFFSETTO:-0500
TZNAME:Central Daylight Time
END:DAYLIGHT
BEGIN:STANDARD
RRULE:FREQ=YEARLY;BYMONTH=11;BYDAY=1SU
DTSTART:20070101T000000
TZOFFSETFROM:-0500
TZOFFSETTO:-0600
TZNAME:Central Standard Time
END:STANDARD
END:VTIMEZONE
BEGIN:VEVENT
DTSTART;TZID=America/Chicago:20260425T120000
DTEND;TZID=America/Chicago:20260425T180000
X-MICROSOFT-CDO-ALLDAYEVENT:FALSE
SUMMARY:Turkic Festival
DESCRIPTION:Turkic Festival   San AntonioJoin us for the Turkic Festival on Saturday\, April 25\, from 12:00 PM to 6:00 PM at Raindrop Foundation (4337 Vance Jackson Rd\, San Antonio\, TX). Admission is free and all ages are welcome.Celebrate the diverse cultures of Turkic countries\, including Turkey\, Azerbaijan\, Kazakhstan\, Kyrgyzstan\, Turkmenistan\, and Tajikistan. Enjoy a lively day featuring traditional cuisine\, live music\, folk dance performances\, art displays\, and interactive cultural activities.Food and handcrafted goods will be available for purchase onsite.Bring your family and friends to experience a vibrant celebration of culture\, community\, and tradition.
X-ALT-DESC;FMTTYPE=text/html:<!DOCTYPE html><html><head><title></title></head><body aria-disabled="false" data-gr-ext-installed="" data-new-gr-c-s-check-loaded="14.1282.0" data-new-gr-c-s-loaded="14.1282.0"><p data-end="116" data-start="83"><strong data-end="116" data-start="83" fr-original-style="" style="font-weight: 700\;">Turkic Festival &ndash\; San Antonio</strong></p><p data-end="306" data-start="118">Join us for the Turkic Festival on Saturday\, April 25\, from 12:00 PM to 6:00 PM at Raindrop Foundation (4337 Vance Jackson Rd\, San Antonio\, TX). Admission is free and all ages are welcome.</p><p data-end="581" data-start="308">Celebrate the diverse cultures of Turkic countries\, including Turkey\, Azerbaijan\, Kazakhstan\, Kyrgyzstan\, Turkmenistan\, and Tajikistan. Enjoy a lively day featuring traditional cuisine\, live music\, folk dance performances\, art displays\, and interactive cultural activities.</p><p data-end="648" data-start="583">Food and handcrafted goods will be available for purchase onsite.</p><p data-end="753" data-start="650">Bring your family and friends to experience a vibrant celebration of culture\, community\, and tradition.</p></body></html>
LOCATION:
UID:e.3379.1443127
SEQUENCE:3
DTSTAMP:20260423T141024Z
URL:https://business.sachamber.org/communityeventcalendar/Details/turkic-festival-1709337?sourceTypeId=Hub
END:VEVENT
END:VCALENDAR
