BEGIN:VCALENDAR
VERSION:2.0
PRODID:-//ChamberMaster//Event Calendar 2.0//EN
METHOD:PUBLISH
X-PUBLISHED-TTL:P1H
REFRESH-INTERVAL:P1H
CALSCALE:GREGORIAN
BEGIN:VTIMEZONE
TZID:America/Chicago
BEGIN:DAYLIGHT
RRULE:FREQ=YEARLY;BYMONTH=3;BYDAY=2SU
DTSTART:20070101T000000
TZOFFSETFROM:-0600
TZOFFSETTO:-0500
TZNAME:Central Daylight Time
END:DAYLIGHT
BEGIN:STANDARD
RRULE:FREQ=YEARLY;BYMONTH=11;BYDAY=1SU
DTSTART:20070101T000000
TZOFFSETFROM:-0500
TZOFFSETTO:-0600
TZNAME:Central Standard Time
END:STANDARD
END:VTIMEZONE
BEGIN:VEVENT
DTSTART;TZID=America/Chicago:20240907T180000
DTEND;TZID=America/Chicago:20240907T220000
X-MICROSOFT-CDO-ALLDAYEVENT:FALSE
SUMMARY:The Angel Affair
DESCRIPTION:For 42 years\, Any Baby Can of San Antonio has served as a beacon of hope for families of children and youth with special healthcare needs. ABC provides comprehensive services\, including case management\, counseling services\, funeral assistance\, and autism parent and partner training\, at no cost\, regardless of income\, for families in Bexar and the 16 surrounding counties The Angel Affair is a night that invites community members and leaders to join together in their support of families navigating the complexities of caring for medically fragile children and youth. The all-white attire event honors those in the community that have been true angels through their ongoing commitment\, passion\, and dedication to Any Baby Can and the families we serve. All proceeds stay local to fund critical\, one-of-a kind programs at Any Baby Can of San Antonio. This year\, The Angel Affair is honoring Rotary Club of San Antonio and the Harvey Najim Charitable Foundation. The Angel Affair will be held on Saturday\, September 7\, 2024 at the La Cantera Resort and Spa.
X-ALT-DESC;FMTTYPE=text/html:<!DOCTYPE html><html><head><title></title></head><body aria-disabled="false"><p>For 42 years\, Any Baby Can of San Antonio has served as a beacon of hope for families of children and youth with special healthcare needs. ABC provides comprehensive services\, including case management\, counseling services\, funeral assistance\, and autism parent and partner training\, at no cost\, regardless of income\, for families in Bexar and the 16 surrounding counties The Angel Affair is a night that invites community members and leaders to join together in their support of families navigating the complexities of caring for medically fragile children and youth. The all-white attire event honors those in the community that have been true angels through their ongoing commitment\, passion\, and dedication to Any Baby Can and the families we serve. All proceeds stay local to fund critical\, one-of-a kind programs at Any Baby Can of San Antonio. This year\, The Angel Affair is honoring Rotary Club of San Antonio and the Harvey Najim Charitable Foundation. The Angel Affair will be held on Saturday\, September 7\, 2024 at the La Cantera Resort and Spa.</p></body></html>
LOCATION:16641 La Cantera Parkway San Antonio TX 78256
UID:e.3379.1020457
SEQUENCE:3
DTSTAMP:20260419T122752Z
URL:https://business.sachamber.org/communityeventcalendar/Details/the-angel-affair-1174556?sourceTypeId=Hub
END:VEVENT
END:VCALENDAR
