BEGIN:VCALENDAR
VERSION:2.0
PRODID:-//ChamberMaster//Event Calendar 2.0//EN
METHOD:PUBLISH
X-PUBLISHED-TTL:P1H
REFRESH-INTERVAL:P1H
CALSCALE:GREGORIAN
BEGIN:VTIMEZONE
TZID:America/Chicago
BEGIN:DAYLIGHT
RRULE:FREQ=YEARLY;BYMONTH=3;BYDAY=2SU
DTSTART:20070101T000000
TZOFFSETFROM:-0600
TZOFFSETTO:-0500
TZNAME:Central Daylight Time
END:DAYLIGHT
BEGIN:STANDARD
RRULE:FREQ=YEARLY;BYMONTH=11;BYDAY=1SU
DTSTART:20070101T000000
TZOFFSETFROM:-0500
TZOFFSETTO:-0600
TZNAME:Central Standard Time
END:STANDARD
END:VTIMEZONE
BEGIN:VEVENT
DTSTART;TZID=America/Chicago:20260423T190000
DTEND;TZID=America/Chicago:20260423T210000
X-MICROSOFT-CDO-ALLDAYEVENT:FALSE
SUMMARY:Slalom Fiesta Mixer
DESCRIPTION:p.p1 {margin: 0.0px 0.0px 0.0px 0.0px\; font: 13.0px 'Helvetica Neue'} li.li1 {margin: 0.0px 0.0px 0.0px 0.0px\; font: 13.0px 'Helvetica Neue'} ul.ul1 {list-style-type: disc}\nAt Slalom\, we're committed to building meaningful\, long‑term relationships in the communities where we live and work. Our Fiesta Mixer is an opportunity to step away from formal programming and enjoy time together   bringing leaders from across the San Antonio business community together along the iconic River Walk for relaxed conversation\, connection\, and a uniquely local celebration. What to Expect:Light bites and drinks throughout the eveningCustom Slalom Fiesta medals to celebrate the seasonA River Walk side view of the annual Fiesta mariachi parade as it passes along the riverAn opportunity to connect with leaders across industries in a relaxed\, social environmentRegister here: https://go.slalom.com/fiesta26
X-ALT-DESC;FMTTYPE=text/html:<!DOCTYPE html><html><head><title></title></head><body aria-disabled="false"><style type="text/css">\np.p1 {margin: 0.0px 0.0px 0.0px 0.0px\; font: 13.0px 'Helvetica Neue'} li.li1 {margin: 0.0px 0.0px 0.0px 0.0px\; font: 13.0px 'Helvetica Neue'} ul.ul1 {list-style-type: disc}\n</style><p>At Slalom\, we&rsquo\;re committed to building meaningful\, long‑term relationships in the communities where we live and work. Our Fiesta Mixer is an opportunity to step away from formal programming and enjoy time together &mdash\; bringing leaders from across the San Antonio business community together along the iconic River Walk for relaxed conversation\, connection\, and a uniquely local celebration.&nbsp\;</p><p><strong fr-original-style="" style="font-weight: 700\;">What to Expect:</strong></p><ul fr-original-style="" style="list-style-position: inside\;"><li>Light bites and drinks throughout the evening</li><li>Custom Slalom Fiesta medals to celebrate the season</li><li>A River Walk&ndash\;side view of the annual Fiesta mariachi parade as it passes along the river</li><li>An opportunity to connect with leaders across industries in a relaxed\, social environment</li></ul><p><strong fr-original-style="" style="font-weight: 700\;">Register here: </strong><a fr-original-style="" href="https://go.slalom.com/fiesta26" style="user-select: auto\;">https://go.slalom.com/fiesta26</a></p></body></html>
LOCATION:
UID:e.3379.1438019
SEQUENCE:3
DTSTAMP:20260423T141024Z
URL:https://business.sachamber.org/communityeventcalendar/Details/slalom-fiesta-mixer-1702030?sourceTypeId=Hub
END:VEVENT
END:VCALENDAR
