BEGIN:VCALENDAR
VERSION:2.0
PRODID:-//ChamberMaster//Event Calendar 2.0//EN
METHOD:PUBLISH
X-PUBLISHED-TTL:P1H
REFRESH-INTERVAL:P1H
CALSCALE:GREGORIAN
BEGIN:VTIMEZONE
TZID:America/Chicago
BEGIN:DAYLIGHT
RRULE:FREQ=YEARLY;BYMONTH=3;BYDAY=2SU
DTSTART:20070101T000000
TZOFFSETFROM:-0600
TZOFFSETTO:-0500
TZNAME:Central Daylight Time
END:DAYLIGHT
BEGIN:STANDARD
RRULE:FREQ=YEARLY;BYMONTH=11;BYDAY=1SU
DTSTART:20070101T000000
TZOFFSETFROM:-0500
TZOFFSETTO:-0600
TZNAME:Central Standard Time
END:STANDARD
END:VTIMEZONE
BEGIN:VEVENT
DTSTART;TZID=America/Chicago:20260423T173000
DTEND;TZID=America/Chicago:20260425T180000
X-MICROSOFT-CDO-ALLDAYEVENT:FALSE
SUMMARY:Savor the State: Where Hospitality Spurs Prosperity
DESCRIPTION:The Texas Lyceum will host its 2026 Public Conference\, "Savor the State: Where Hospitality Spurs Prosperity\," in San Antonio\, bringing together business leaders\, policy-makers and culinary innovators to explore one of the state's most dynamic economic sectors. A celebration of Texas' hospitality industry as a cultural cornerstone and a powerful economic driver\, the three-day event blends exclusive culinary experiences with high-profile leaders to examine how restaurants\, regional cuisine and culinary innovation are shaping the future of our state. From discussing how our food truck culture is creating never-before-accessed opportunities to examining the cult-like following of tacos and BBQ to looking ahead at critical pol
X-ALT-DESC;FMTTYPE=text/html:<!DOCTYPE html><html><head><title></title></head><body aria-disabled="false" data-gr-ext-installed="" data-new-gr-c-s-check-loaded="14.1280.0" data-new-gr-c-s-loaded="14.1280.0" spellcheck="false"><p><span style="color: rgb(0\, 0\, 0)\; font-family: Times\; font-size: medium\; font-style: normal\; font-variant-ligatures: normal\; font-variant-caps: normal\; font-weight: 400\; letter-spacing: normal\; orphans: 2\; text-align: start\; text-indent: 0px\; text-transform: none\; widows: 2\; word-spacing: 0px\; -webkit-text-stroke-width: 0px\; white-space: normal\; text-decoration-thickness: initial\; text-decoration-style: initial\; text-decoration-color: initial\; display: inline !important\; float: none\;">The Texas Lyceum will host its 2026 Public Conference\, &ldquo\;Savor the State: Where Hospitality Spurs Prosperity\,&rdquo\; in San Antonio\, bringing together business leaders\, policy-makers and culinary innovators to explore one of the state&rsquo\;s most dynamic economic sectors. A celebration of Texas&rsquo\; hospitality industry as a cultural cornerstone and a powerful economic driver\, the three-day event blends exclusive culinary experiences with high-profile leaders to examine how restaurants\, regional cuisine and culinary innovation are shaping the future of our state. From discussing how our food truck culture is creating never-before-accessed opportunities to examining the cult-like following of tacos and BBQ to looking ahead at critical pol</span></p></body></html>
LOCATION:
UID:e.3379.1439342
SEQUENCE:3
DTSTAMP:20260423T140911Z
URL:https://business.sachamber.org/communityeventcalendar/Details/savor-the-state-where-hospitality-spurs-prosperity-1703756?sourceTypeId=Hub
END:VEVENT
END:VCALENDAR
