BEGIN:VCALENDAR
VERSION:2.0
PRODID:-//ChamberMaster//Event Calendar 2.0//EN
METHOD:PUBLISH
X-PUBLISHED-TTL:P1H
REFRESH-INTERVAL:P1H
CALSCALE:GREGORIAN
BEGIN:VTIMEZONE
TZID:America/Chicago
BEGIN:DAYLIGHT
RRULE:FREQ=YEARLY;BYMONTH=3;BYDAY=2SU
DTSTART:20070101T000000
TZOFFSETFROM:-0600
TZOFFSETTO:-0500
TZNAME:Central Daylight Time
END:DAYLIGHT
BEGIN:STANDARD
RRULE:FREQ=YEARLY;BYMONTH=11;BYDAY=1SU
DTSTART:20070101T000000
TZOFFSETFROM:-0500
TZOFFSETTO:-0600
TZNAME:Central Standard Time
END:STANDARD
END:VTIMEZONE
BEGIN:VEVENT
DTSTART;TZID=America/Chicago:20260502T120000
DTEND;TZID=America/Chicago:20260502T200000
X-MICROSOFT-CDO-ALLDAYEVENT:FALSE
SUMMARY:Rockin' Race Day: From Doxies to Derby
DESCRIPTION:Experience the best of the "Most Exciting Two Minutes in Sports" right here in San Antonio. On Saturday\, May 2\, The Rock at La Cantera transforms into the ultimate Derby destination. From the fan-favorite Doxie Derby to the 152nd "Run for the Roses" Coverage\, it's a full-day celebration of speed\, style\, and spirit.\nEnjoy a vibrant afternoon featuring:Live Entertainment: The brassy sounds of BexarBrass.Shopping & Community: A local vendor market and pet adoption fair.The Main Event: All-day Derby coverage on our massive outdoor screen and Dachshund Races!The Millionaires Rooftop Experience: Elevate your afternoon with our exclusive VIP package. Tickets include rooftop views\, an unlimited gourmet buffet\, two drinks\, reserved VIP parking\, and more!Register Your Doxie: Does your four-legged friend have what it takes? Sign up for the Doxie Derby for $25 and race for the trophy and the glory!Don't forget to dress in your Derby best and experience SATX's premier spring activation!
X-ALT-DESC;FMTTYPE=text/html:<!DOCTYPE html><html><head><title></title></head><body aria-disabled="false"><p>Experience the best of the &quot\;Most Exciting Two Minutes in Sports&quot\; right here in San Antonio. On Saturday\, May 2\, The Rock at La Cantera transforms into the ultimate Derby destination. From the fan-favorite Doxie Derby to the 152nd &quot\;Run for the Roses&quot\; Coverage\, it&rsquo\;s a full-day celebration of speed\, style\, and spirit.</p><p><br></p><p>Enjoy a vibrant afternoon featuring:</p><p>Live Entertainment: The brassy sounds of BexarBrass.</p><p>Shopping &amp\; Community: A local vendor market and pet adoption fair.</p><p>The Main Event: All-day Derby coverage on our massive outdoor screen and Dachshund Races!</p><p>The Millionaires Rooftop Experience: Elevate your afternoon with our exclusive VIP package. Tickets include rooftop views\, an unlimited gourmet buffet\, two drinks\, reserved VIP parking\, and more!</p><p>Register Your Doxie: Does your four-legged friend have what it takes? Sign up for the Doxie Derby for $25 and race for the trophy and the glory!</p><p>Don&rsquo\;t forget to dress in your Derby best and experience SATX&rsquo\;s premier spring activation!</p></body></html>
LOCATION:
UID:e.3379.1442699
SEQUENCE:3
DTSTAMP:20260423T141832Z
URL:https://business.sachamber.org/communityeventcalendar/Details/rockin-race-day-from-doxies-to-derby-1708762?sourceTypeId=Hub
END:VEVENT
END:VCALENDAR
