BEGIN:VCALENDAR
VERSION:2.0
PRODID:-//ChamberMaster//Event Calendar 2.0//EN
METHOD:PUBLISH
X-PUBLISHED-TTL:P1H
REFRESH-INTERVAL:P1H
CALSCALE:GREGORIAN
BEGIN:VTIMEZONE
TZID:America/Chicago
BEGIN:DAYLIGHT
RRULE:FREQ=YEARLY;BYMONTH=3;BYDAY=2SU
DTSTART:20070101T000000
TZOFFSETFROM:-0600
TZOFFSETTO:-0500
TZNAME:Central Daylight Time
END:DAYLIGHT
BEGIN:STANDARD
RRULE:FREQ=YEARLY;BYMONTH=11;BYDAY=1SU
DTSTART:20070101T000000
TZOFFSETFROM:-0500
TZOFFSETTO:-0600
TZNAME:Central Standard Time
END:STANDARD
END:VTIMEZONE
BEGIN:VEVENT
DTSTART;TZID=America/Chicago:20260507T180000
DTEND;TZID=America/Chicago:20260507T200000
X-MICROSOFT-CDO-ALLDAYEVENT:FALSE
SUMMARY:Night of Artists Artist Demonstration with Donna Howell-Sickles
DESCRIPTION:Join us for an Artist Demonstration by Night of Artists featured artist Donna Howell‑Sickles!\n\n🗓️Thursday May 7\, 2026 | 6:00 – 8:00pm\n\n👤Adults 21+\n\n🎟️FREE with general admission | FREE for Members!\n\nRegister Today: https://briscoemuseum.salsalabs.org/donnahowellsickles/index.html?page=register
X-ALT-DESC;FMTTYPE=text/html:Join us for an Artist Demonstration by Night of Artists featured artist Donna Howell‑Sickles!\n\n🗓️Thursday May 7\, 2026 | 6:00 – 8:00pm\n\n👤Adults 21+\n\n🎟️FREE with general admission | FREE for Members!\n\nRegister Today: https://briscoemuseum.salsalabs.org/donnahowellsickles/index.html?page=register
LOCATION:210 W Market St San Antonio TX 78205
UID:e.3379.1447140
SEQUENCE:3
DTSTAMP:20260423T141222Z
URL:https://business.sachamber.org/communityeventcalendar/Details/night-of-artists-artist-demonstration-with-donna-howell-sickles-1713969?sourceTypeId=Hub
END:VEVENT
END:VCALENDAR
