BEGIN:VCALENDAR
VERSION:2.0
PRODID:-//ChamberMaster//Event Calendar 2.0//EN
METHOD:PUBLISH
X-PUBLISHED-TTL:P1H
REFRESH-INTERVAL:P1H
CALSCALE:GREGORIAN
BEGIN:VTIMEZONE
TZID:America/Chicago
BEGIN:DAYLIGHT
RRULE:FREQ=YEARLY;BYMONTH=3;BYDAY=2SU
DTSTART:20070101T000000
TZOFFSETFROM:-0600
TZOFFSETTO:-0500
TZNAME:Central Daylight Time
END:DAYLIGHT
BEGIN:STANDARD
RRULE:FREQ=YEARLY;BYMONTH=11;BYDAY=1SU
DTSTART:20070101T000000
TZOFFSETFROM:-0500
TZOFFSETTO:-0600
TZNAME:Central Standard Time
END:STANDARD
END:VTIMEZONE
BEGIN:VEVENT
DTSTART;TZID=America/Chicago:20260510T100000
DTEND;TZID=America/Chicago:20260510T170000
X-MICROSOFT-CDO-ALLDAYEVENT:FALSE
SUMMARY:Mother’s Day at the Briscoe
DESCRIPTION:Celebrate Mother’s Day at the Briscoe!\n\nThe Briscoe invites all mothers to enjoy free admission as they explore our captivating exhibitions and immerse themselves in art\, history\, and culture.\n\nIt’s also your last chance to experience the “Night of Artists” exhibition\, don’t miss this stunning showcase before it closes!\n\n🗓️ Sunday May 10\, 2026 | 10:00am – 5:00 pm\n\n🎟️ FREE Admission for Moms!
X-ALT-DESC;FMTTYPE=text/html:Celebrate Mother’s Day at the Briscoe!\n\nThe Briscoe invites all mothers to enjoy free admission as they explore our captivating exhibitions and immerse themselves in art\, history\, and culture.\n\nIt’s also your last chance to experience the “Night of Artists” exhibition\, don’t miss this stunning showcase before it closes!\n\n🗓️ Sunday May 10\, 2026 | 10:00am – 5:00 pm\n\n🎟️ FREE Admission for Moms!
LOCATION:210 W. Market Street San Antonio TX 78205
UID:e.3379.1447143
SEQUENCE:3
DTSTAMP:20260423T141030Z
URL:https://business.sachamber.org/communityeventcalendar/Details/mother-s-day-at-the-briscoe-1713972?sourceTypeId=Hub
END:VEVENT
END:VCALENDAR
