BEGIN:VCALENDAR
VERSION:2.0
PRODID:-//ChamberMaster//Event Calendar 2.0//EN
METHOD:PUBLISH
X-PUBLISHED-TTL:P1H
REFRESH-INTERVAL:P1H
CALSCALE:GREGORIAN
BEGIN:VTIMEZONE
TZID:America/Chicago
BEGIN:DAYLIGHT
RRULE:FREQ=YEARLY;BYMONTH=3;BYDAY=2SU
DTSTART:20070101T000000
TZOFFSETFROM:-0600
TZOFFSETTO:-0500
TZNAME:Central Daylight Time
END:DAYLIGHT
BEGIN:STANDARD
RRULE:FREQ=YEARLY;BYMONTH=11;BYDAY=1SU
DTSTART:20070101T000000
TZOFFSETFROM:-0500
TZOFFSETTO:-0600
TZNAME:Central Standard Time
END:STANDARD
END:VTIMEZONE
BEGIN:VEVENT
DTSTART;TZID=America/Chicago:20260507T183000
DTEND;TZID=America/Chicago:20260507T200000
X-MICROSOFT-CDO-ALLDAYEVENT:FALSE
SUMMARY:Mind Over Mic: A Gemini Ink Storytelling Show & Open Mic
DESCRIPTION:Free & open to the public. Open mic sign-up at 6 PM.\nJoin Gemini Ink and a collection of local storytellers as we share gripping stories of solitary struggles\, small triumphs\, and soothing self-care in recognition of Mental Health Awareness Month 2026.\n\nOur featured truth-tellers include Jen Y  ez-Alaniz\, Jonathan Fletcher\, Joyous Windrider Jim nez\, and Daniel Ramirez. Following the featured reading\, we will host a community open mic (5-minute limit). Bring your poems\, short stories\, and thoughts to share. Open mic sign-up at 6 PM. Light refreshments will be served.\nWe will have a list of community mental health resources available.
X-ALT-DESC;FMTTYPE=text/html:<!DOCTYPE html><html><head><title></title></head><body aria-disabled="false"><p>Free &amp\; open to the public. Open mic sign-up at 6 PM.</p><p><br></p><p>Join Gemini Ink and a collection of local storytellers as we share gripping stories of solitary struggles\, small triumphs\, and soothing self-care in recognition of Mental Health Awareness Month 2026.</p><p><br></p><p><br></p><p>Our featured truth-tellers include Jen Y&aacute\;&ntilde\;ez-Alaniz\, Jonathan Fletcher\, Joyous Windrider Jim&eacute\;nez\, and Daniel Ramirez. Following the featured reading\, we will host a community open mic (5-minute limit). Bring your poems\, short stories\, and thoughts to share. Open mic sign-up at 6 PM. Light refreshments will be served.</p><p><br></p><p>We will have a list of community mental health resources available.&nbsp\;</p></body></html>
LOCATION:
UID:e.3379.1447489
SEQUENCE:3
DTSTAMP:20260423T140446Z
URL:https://business.sachamber.org/communityeventcalendar/Details/mind-over-mic-a-gemini-ink-storytelling-show-open-mic-1714431?sourceTypeId=Hub
END:VEVENT
END:VCALENDAR
