BEGIN:VCALENDAR
VERSION:2.0
PRODID:-//ChamberMaster//Event Calendar 2.0//EN
METHOD:PUBLISH
X-PUBLISHED-TTL:P1H
REFRESH-INTERVAL:P1H
CALSCALE:GREGORIAN
BEGIN:VTIMEZONE
TZID:America/Chicago
BEGIN:DAYLIGHT
RRULE:FREQ=YEARLY;BYMONTH=3;BYDAY=2SU
DTSTART:20070101T000000
TZOFFSETFROM:-0600
TZOFFSETTO:-0500
TZNAME:Central Daylight Time
END:DAYLIGHT
BEGIN:STANDARD
RRULE:FREQ=YEARLY;BYMONTH=11;BYDAY=1SU
DTSTART:20070101T000000
TZOFFSETFROM:-0500
TZOFFSETTO:-0600
TZNAME:Central Standard Time
END:STANDARD
END:VTIMEZONE
BEGIN:VEVENT
DTSTART;TZID=America/Chicago:20260603T000000
DTEND;TZID=America/Chicago:20260603T000000
X-MICROSOFT-CDO-ALLDAYEVENT:FALSE
SUMMARY:LSA 50 Class Day 4 - 5/6/26 - Born to Succeed: Building SA’s Future from Day 1
DESCRIPTION:
X-ALT-DESC;FMTTYPE=text/html:
LOCATION:
UID:e.3379.1319231
SEQUENCE:3
DTSTAMP:20260423T141116Z
URL:https://business.sachamber.org/communityeventcalendar/Details/lsa-50-class-day-4-5-6-26-born-to-succeed-building-sa-s-future-from-day-1-1546712?sourceTypeId=Hub
END:VEVENT
END:VCALENDAR
