BEGIN:VCALENDAR
VERSION:2.0
PRODID:-//ChamberMaster//Event Calendar 2.0//EN
METHOD:PUBLISH
X-PUBLISHED-TTL:P1H
REFRESH-INTERVAL:P1H
CALSCALE:GREGORIAN
BEGIN:VTIMEZONE
TZID:America/Chicago
BEGIN:DAYLIGHT
RRULE:FREQ=YEARLY;BYMONTH=3;BYDAY=2SU
DTSTART:20070101T000000
TZOFFSETFROM:-0600
TZOFFSETTO:-0500
TZNAME:Central Daylight Time
END:DAYLIGHT
BEGIN:STANDARD
RRULE:FREQ=YEARLY;BYMONTH=11;BYDAY=1SU
DTSTART:20070101T000000
TZOFFSETFROM:-0500
TZOFFSETTO:-0600
TZNAME:Central Standard Time
END:STANDARD
END:VTIMEZONE
BEGIN:VEVENT
DTSTART;TZID=America/Chicago:20260516T170000
DTEND;TZID=America/Chicago:20260516T190000
X-MICROSOFT-CDO-ALLDAYEVENT:FALSE
SUMMARY:Giselle - May 16 - San Antonio Youth Ballet
DESCRIPTION:Experience the beauty and emotion of Giselle\, one of the most iconic classical ballets of all time. This romantic ballet tells the story of a young peasant girl who falls in love\, faces heartbreak\, and ultimately finds forgiveness beyond the grave.Filled with breathtaking choreography\, elegant costumes\, and powerful storytelling\, Giselle takes audiences on a journey of love\, betrayal\, and redemption.Join us for an unforgettable performance that brings this timeless masterpiece to life.
X-ALT-DESC;FMTTYPE=text/html:<!DOCTYPE html><html><head><title></title></head><body aria-disabled="false"><p><meta charset="utf-8">Experience the beauty and emotion of <em data-end="202" data-start="193">Giselle</em>\, one of the most iconic classical ballets of all time. This romantic ballet tells the story of a young peasant girl who falls in love\, faces heartbreak\, and ultimately finds forgiveness beyond the grave.</p><p data-end="565" data-start="408">Filled with breathtaking choreography\, elegant costumes\, and powerful storytelling\, <em data-end="501" data-start="492">Giselle</em> takes audiences on a journey of love\, betrayal\, and redemption.</p><p data-end="654" data-start="567">Join us for an unforgettable performance that brings this timeless masterpiece to life.</p></body></html>
LOCATION:
UID:e.3379.1441389
SEQUENCE:3
DTSTAMP:20260423T142227Z
URL:https://business.sachamber.org/communityeventcalendar/Details/giselle-may-16-san-antonio-youth-ballet-1707223?sourceTypeId=Hub
END:VEVENT
END:VCALENDAR
