BEGIN:VCALENDAR
VERSION:2.0
PRODID:-//ChamberMaster//Event Calendar 2.0//EN
METHOD:PUBLISH
X-PUBLISHED-TTL:P1H
REFRESH-INTERVAL:P1H
CALSCALE:GREGORIAN
BEGIN:VTIMEZONE
TZID:America/Chicago
BEGIN:DAYLIGHT
RRULE:FREQ=YEARLY;BYMONTH=3;BYDAY=2SU
DTSTART:20070101T000000
TZOFFSETFROM:-0600
TZOFFSETTO:-0500
TZNAME:Central Daylight Time
END:DAYLIGHT
BEGIN:STANDARD
RRULE:FREQ=YEARLY;BYMONTH=11;BYDAY=1SU
DTSTART:20070101T000000
TZOFFSETFROM:-0500
TZOFFSETTO:-0600
TZNAME:Central Standard Time
END:STANDARD
END:VTIMEZONE
BEGIN:VEVENT
DTSTART;TZID=America/Chicago:20260501T210000
DTEND;TZID=America/Chicago:20260502T010000
X-MICROSOFT-CDO-ALLDAYEVENT:FALSE
SUMMARY:Cinco De Meow-o!
DESCRIPTION:Viva Fiesta! Come celebrate with North Park Subaru and The Animal Defense League of Texas at our Cinco de Meow-o event. Meet pets ready to go to their fur-ever homes and add a little extra paw-ty to your Fiesta season! ✨9635 San Pedro Ave ✨Saturday\, May 2 ✨10AM 2PM
X-ALT-DESC;FMTTYPE=text/html:<!DOCTYPE html><html><head><title></title></head><body aria-disabled="false"><p>Viva Fiesta! Come celebrate with North Park Subaru and The Animal Defense League of Texas at our Cinco de Meow-o event. Meet pets ready to go to their fur-ever homes and add a little extra paw-ty to your Fiesta season! ✨9635 San Pedro Ave ✨Saturday\, May 2 ✨10AM&ndash\;2PM</p></body></html>
LOCATION:
UID:e.3379.1444589
SEQUENCE:3
DTSTAMP:20260423T140943Z
URL:https://business.sachamber.org/communityeventcalendar/Details/cinco-de-meow-o-1710964?sourceTypeId=Hub
END:VEVENT
END:VCALENDAR
