BEGIN:VCALENDAR
VERSION:2.0
PRODID:-//ChamberMaster//Event Calendar 2.0//EN
METHOD:PUBLISH
X-PUBLISHED-TTL:P1H
REFRESH-INTERVAL:P1H
CALSCALE:GREGORIAN
BEGIN:VTIMEZONE
TZID:America/Chicago
BEGIN:DAYLIGHT
RRULE:FREQ=YEARLY;BYMONTH=3;BYDAY=2SU
DTSTART:20070101T000000
TZOFFSETFROM:-0600
TZOFFSETTO:-0500
TZNAME:Central Daylight Time
END:DAYLIGHT
BEGIN:STANDARD
RRULE:FREQ=YEARLY;BYMONTH=11;BYDAY=1SU
DTSTART:20070101T000000
TZOFFSETFROM:-0500
TZOFFSETTO:-0600
TZNAME:Central Standard Time
END:STANDARD
END:VTIMEZONE
BEGIN:VEVENT
DTSTART;TZID=America/Chicago:20260915T173000
DTEND;TZID=America/Chicago:20260915T190000
X-MICROSOFT-CDO-ALLDAYEVENT:FALSE
SUMMARY:2026 September Business Connections Mixer Hosted by Rio Plaza Riverwalk San Antonio
DESCRIPTION:
X-ALT-DESC;FMTTYPE=text/html:
LOCATION:245 E Commerce St San Antonio TX 78205
UID:e.3379.1448649
SEQUENCE:3
DTSTAMP:20260423T141222Z
URL:https://business.sachamber.org/communityeventcalendar/Details/2026-september-business-connections-mixer-hosted-by-rio-plaza-riverwalk-san-antonio-1715725?sourceTypeId=Hub
END:VEVENT
END:VCALENDAR
