BEGIN:VCALENDAR
VERSION:2.0
PRODID:-//ChamberMaster//Event Calendar 2.0//EN
METHOD:PUBLISH
X-PUBLISHED-TTL:P1H
REFRESH-INTERVAL:P1H
CALSCALE:GREGORIAN
BEGIN:VTIMEZONE
TZID:America/Chicago
BEGIN:DAYLIGHT
RRULE:FREQ=YEARLY;BYMONTH=3;BYDAY=2SU
DTSTART:20070101T000000
TZOFFSETFROM:-0600
TZOFFSETTO:-0500
TZNAME:Central Daylight Time
END:DAYLIGHT
BEGIN:STANDARD
RRULE:FREQ=YEARLY;BYMONTH=11;BYDAY=1SU
DTSTART:20070101T000000
TZOFFSETFROM:-0500
TZOFFSETTO:-0600
TZNAME:Central Standard Time
END:STANDARD
END:VTIMEZONE
BEGIN:VEVENT
DTSTART;TZID=America/Chicago:20260519T173000
DTEND;TZID=America/Chicago:20260519T190000
X-MICROSOFT-CDO-ALLDAYEVENT:FALSE
SUMMARY:2026 May Business Connections Mixer Hosted by Home2 Suites by Hilton San Antonio River Walk
DESCRIPTION:
X-ALT-DESC;FMTTYPE=text/html:
LOCATION:118 Soledad St San Antonio TX 78205
UID:e.3379.1436978
SEQUENCE:3
DTSTAMP:20260423T141217Z
URL:https://business.sachamber.org/communityeventcalendar/Details/2026-may-business-connections-mixer-hosted-by-home2-suites-by-hilton-san-antonio-river-walk-1700994?sourceTypeId=Hub
END:VEVENT
END:VCALENDAR
